BEGIN:VCALENDAR
VERSION:2.0
PRODID:-//wp-events-plugin.com//7.2.3.1//EN
TZID:Europe/Berlin
X-WR-TIMEZONE:Europe/Berlin
BEGIN:VEVENT
UID:175@kolping-herne.de
DTSTART;TZID=Europe/Berlin:20260314T153000
DTEND;TZID=Europe/Berlin:20260314T233000
DTSTAMP:20260303T001337Z
URL:https://kolping-herne.de/veranstaltungen/fun-games-4/
SUMMARY:FUN & GAMES
DESCRIPTION:Der Spielenachmittag bei Kolping!\nUnser regelmäßiges Treffen
  der Spielkinder ist eine liebgewonnene Tradition in unserer Kolpingsfamil
 ie.\n\nWir haben eine riesige Auswahl Brettspiele vor Ort. Diesmal testen 
 wir erstmalig das Spiel "Hero Quest"\, es stehen aber auch duzende andere 
 Spiele zur Verfügung.\nBitte bringt etwas zum Mitbringbuffet mit!\n&nbsp\
 ;\n\n
ATTACH;FMTTYPE=image/jpeg:https://kolping-herne.de/wp-content/uploads/2026
 /03/FUN-GAMES-2026-Webbanner.png
LOCATION:Gemeindezentrum St. Bonifatius\, Glockenstr. 7\, Herne\, Nordrhein
 -Westfalen\, 44623\, Deutschland
GEO:51.53935;7.225794
X-APPLE-STRUCTURED-LOCATION;VALUE=URI;X-ADDRESS=Glockenstr. 7\, Herne\, Nor
 drhein-Westfalen\, 44623\, Deutschland;X-APPLE-RADIUS=100;X-TITLE=Gemeinde
 zentrum St. Bonifatius:geo:51.53935,7.225794
END:VEVENT
BEGIN:VTIMEZONE
TZID:Europe/Berlin
X-LIC-LOCATION:Europe/Berlin
BEGIN:STANDARD
DTSTART:20251026T020000
TZOFFSETFROM:+0200
TZOFFSETTO:+0100
TZNAME:CET
END:STANDARD
END:VTIMEZONE
END:VCALENDAR